Package: CausalR Version: 1.41.0 Command: /Library/Frameworks/R.framework/Resources/bin/R CMD INSTALL CausalR StartedAt: 2025-10-03 15:07:08 -0400 (Fri, 03 Oct 2025) EndedAt: 2025-10-03 15:08:00 -0400 (Fri, 03 Oct 2025) EllapsedTime: 51.5 seconds RetCode: 0 Status: OK