Package: CausalR Version: 1.41.0 Command: /Library/Frameworks/R.framework/Resources/bin/R CMD build --keep-empty-dirs --no-resave-data CausalR StartedAt: 2025-10-03 16:18:24 -0400 (Fri, 03 Oct 2025) EndedAt: 2025-10-03 16:18:56 -0400 (Fri, 03 Oct 2025) EllapsedTime: 31.9 seconds RetCode: 0 Status: OK PackageFile: CausalR_1.41.0.tar.gz PackageFileSize: 570.6 KiB