Package: CausalR Version: 1.41.0 Command: rm -rf CausalR.buildbin-libdir && mkdir CausalR.buildbin-libdir && /Users/biocbuild/BBS/utils/build-universal.sh CausalR_1.41.0.tar.gz /Library/Frameworks/R.framework/Resources/bin/R CausalR.buildbin-libdir StartedAt: 2025-10-04 01:56:27 -0400 (Sat, 04 Oct 2025) EndedAt: 2025-10-04 01:56:36 -0400 (Sat, 04 Oct 2025) EllapsedTime: 9.3 seconds RetCode: 0 Status: OK PackageFile: CausalR_1.41.0.tgz PackageFileSize: 639.4 KiB