Package: CausalR Version: 1.41.0 Maintainer: Glyn Bradley , Steven Barrett MaintainerEmail: steven.j.barrett at gsk.com git_url: https://git.bioconductor.org/packages/CausalR git_branch: devel git_last_commit: 8c41ab1 git_last_commit_date: 2025-04-15 10:51:17 -0400 (Tue, 15 Apr 2025)