Package: CatsCradle Version: 1.3.0 Command: /Library/Frameworks/R.framework/Resources/bin/R CMD INSTALL CatsCradle StartedAt: 2025-10-19 15:23:04 -0400 (Sun, 19 Oct 2025) EndedAt: 2025-10-19 15:24:02 -0400 (Sun, 19 Oct 2025) EllapsedTime: 58.1 seconds RetCode: 0 Status: OK