Package: CatsCradle Version: 1.3.0 Command: /Library/Frameworks/R.framework/Resources/bin/R CMD build --keep-empty-dirs --no-resave-data CatsCradle StartedAt: 2025-10-14 15:51:00 -0400 (Tue, 14 Oct 2025) EndedAt: 2025-10-14 15:54:15 -0400 (Tue, 14 Oct 2025) EllapsedTime: 195.2 seconds RetCode: 1 Status: ERROR PackageFile: None PackageFileSize: NA