Package: Category Version: 2.77.0 Command: /home/biocbuild/bbs-3.23-bioc/R/bin/R CMD INSTALL Category StartedAt: 2025-11-06 15:29:03 -0500 (Thu, 06 Nov 2025) EndedAt: 2025-11-06 15:29:26 -0500 (Thu, 06 Nov 2025) EllapsedTime: 23.0 seconds RetCode: 0 Status: OK