Package: Category Version: 2.77.0 Command: /home/biocbuild/bbs-3.23-bioc/R/bin/R CMD build --keep-empty-dirs --no-resave-data Category StartedAt: 2025-11-06 16:36:06 -0500 (Thu, 06 Nov 2025) EndedAt: 2025-11-06 16:37:27 -0500 (Thu, 06 Nov 2025) EllapsedTime: 80.1 seconds RetCode: 0 Status: OK PackageFile: Category_2.77.0.tar.gz PackageFileSize: 873.9 KiB