Package: Category Version: 2.75.0 Command: /Library/Frameworks/R.framework/Resources/bin/R CMD INSTALL Category StartedAt: 2025-10-14 15:10:20 -0400 (Tue, 14 Oct 2025) EndedAt: 2025-10-14 15:10:29 -0400 (Tue, 14 Oct 2025) EllapsedTime: 8.9 seconds RetCode: 0 Status: OK