Back to Build/check report for BioC 3.23:   simplified   long
AB[C]DEFGHIJKLMNOPQRSTUVWXYZ

This page was generated on 2025-11-05 11:32 -0500 (Wed, 05 Nov 2025).

HostnameOSArch (*)R versionInstalled pkgs
nebbiolo1Linux (Ubuntu 24.04.3 LTS)x86_64R Under development (unstable) (2025-10-20 r88955) -- "Unsuffered Consequences" 4818
Click on any hostname to see more info about the system (e.g. compilers)      (*) as reported by 'uname -p', except on Windows and Mac OS X

All results for package Category


To the developers/maintainers of the Category package:
- Allow up to 24 hours (and sometimes 48 hours) for your latest push to git@git.bioconductor.org:packages/Category.git to reflect on this report. See Troubleshooting Build Report for more information.
- Use the following Renviron settings to reproduce errors and warnings.
- If 'R CMD check' started to fail recently on the Linux builder(s) over a missing dependency, add the missing dependency to 'Suggests:' in your DESCRIPTION file. See Renviron.bioc for more information.

raw results

Package 281/2323HostnameOS / ArchINSTALLBUILDCHECKBUILD BIN
Category 2.77.0  (landing page)
Bioconductor Package Maintainer
Snapshot Date: 2025-11-04 13:40 -0500 (Tue, 04 Nov 2025)
git_url: https://git.bioconductor.org/packages/Category
git_branch: devel
git_last_commit: 6850286
git_last_commit_date: 2025-10-29 09:56:37 -0500 (Wed, 29 Oct 2025)
nebbiolo1Linux (Ubuntu 24.04.3 LTS) / x86_64  OK    OK    OK  UNNEEDED, same version is already published



Results for Bioconductor software packages that depend directly on package Category

QUICK STATSOS / ArchINSTALLBUILDCHECKBUILD BIN
nebbiolo1Linux (Ubuntu 24.04.3 LTS) / x86_64
008
008
0035
Package 1/8HostnameOS / ArchINSTALLBUILDCHECKBUILD BIN
categoryCompare 1.55.0  (landing page)
Robert M. Flight
git_last_commit: 22bf171
git_last_commit_date: 2025-10-29 10:11:00 -0500
nebbiolo1Linux (Ubuntu 24.04.3 LTS) / x86_64  OK    OK    OK  UNNEEDED, same version is already published
Package 2/8HostnameOS / ArchINSTALLBUILDCHECKBUILD BIN
GmicR 1.25.0  (landing page)
Richard Virgen-Slane
git_last_commit: f2f25e5
git_last_commit_date: 2025-10-29 10:54:40 -0500
nebbiolo1Linux (Ubuntu 24.04.3 LTS) / x86_64  OK    OK    WARNINGS  UNNEEDED, same version is already published
Package 3/8HostnameOS / ArchINSTALLBUILDCHECKBUILD BIN
GOstats 2.77.0  (landing page)
Bioconductor Package Maintainer
git_last_commit: d09aa16
git_last_commit_date: 2025-10-29 09:55:01 -0500
nebbiolo1Linux (Ubuntu 24.04.3 LTS) / x86_64  OK    OK    OK  UNNEEDED, same version is already published
Package 4/8HostnameOS / ArchINSTALLBUILDCHECKBUILD BIN
meshr 2.17.0  (landing page)
Koki Tsuyuzaki
git_last_commit: edcebb9
git_last_commit_date: 2025-10-29 10:19:23 -0500
nebbiolo1Linux (Ubuntu 24.04.3 LTS) / x86_64  OK    OK    OK  UNNEEDED, same version is already published
Package 5/8HostnameOS / ArchINSTALLBUILDCHECKBUILD BIN
miRLAB 1.41.0  (landing page)
Thuc Duy Le
git_last_commit: 4190086
git_last_commit_date: 2025-10-29 10:26:51 -0500
nebbiolo1Linux (Ubuntu 24.04.3 LTS) / x86_64  OK    OK    WARNINGS  UNNEEDED, same version is already published
Package 6/8HostnameOS / ArchINSTALLBUILDCHECKBUILD BIN
phenoTest 1.59.0  (landing page)
Evarist Planet
git_last_commit: 882e53c
git_last_commit_date: 2025-10-29 10:06:30 -0500
nebbiolo1Linux (Ubuntu 24.04.3 LTS) / x86_64  OK    OK    OK  UNNEEDED, same version is already published
Package 7/8HostnameOS / ArchINSTALLBUILDCHECKBUILD BIN
ReportingTools 2.51.0  (landing page)
Jason A. Hackney , Gabriel Becker
git_last_commit: ba00f72
git_last_commit_date: 2025-10-29 10:12:14 -0500
nebbiolo1Linux (Ubuntu 24.04.3 LTS) / x86_64  OK    OK    OK  YES
Package 8/8HostnameOS / ArchINSTALLBUILDCHECKBUILD BIN
scTensor 2.21.0  (landing page)
Koki Tsuyuzaki
git_last_commit: 63a2564
git_last_commit_date: 2025-10-29 10:49:00 -0500
nebbiolo1Linux (Ubuntu 24.04.3 LTS) / x86_64  OK    OK    WARNINGS  UNNEEDED, same version is already published