Package: CardinalIO Version: 1.7.0 Command: chmod a+r CardinalIO -R && F:\biocbuild\bbs-3.22-bioc\R\bin\R.exe CMD build --keep-empty-dirs --no-resave-data CardinalIO StartedAt: 2025-08-14 18:55:38 -0400 (Thu, 14 Aug 2025) EndedAt: 2025-08-14 18:56:28 -0400 (Thu, 14 Aug 2025) EllapsedTime: 50.0 seconds RetCode: 0 Status: OK PackageFile: CardinalIO_1.7.0.tar.gz PackageFileSize: 939.2 KiB