Package: CardinalIO Version: 1.7.0 Command: rm -rf CardinalIO.buildbin-libdir && mkdir CardinalIO.buildbin-libdir && F:\biocbuild\bbs-3.22-bioc\R\bin\R.exe CMD INSTALL --build --library=CardinalIO.buildbin-libdir CardinalIO_1.7.0.tar.gz StartedAt: 2025-08-15 09:53:40 -0400 (Fri, 15 Aug 2025) EndedAt: 2025-08-15 09:54:37 -0400 (Fri, 15 Aug 2025) EllapsedTime: 57.1 seconds RetCode: 0 Status: OK PackageFile: CardinalIO_1.7.0.zip PackageFileSize: 1.284 MiB