Package: CardinalIO Version: 1.9.0 Command: /home/biocbuild/bbs-3.23-bioc/R/bin/R CMD INSTALL CardinalIO StartedAt: 2025-11-07 15:12:45 -0500 (Fri, 07 Nov 2025) EndedAt: 2025-11-07 15:13:02 -0500 (Fri, 07 Nov 2025) EllapsedTime: 16.8 seconds RetCode: 0 Status: OK