Package: CardinalIO Version: 1.9.0 Command: /home/biocbuild/bbs-3.23-bioc/R/bin/R CMD check --install=check:CardinalIO.install-out.txt --library=/home/biocbuild/bbs-3.23-bioc/R/site-library --timings CardinalIO_1.9.0.tar.gz StartedAt: 2025-11-07 21:38:37 -0500 (Fri, 07 Nov 2025) EndedAt: 2025-11-07 21:40:06 -0500 (Fri, 07 Nov 2025) EllapsedTime: 89.1 seconds RetCode: 0 Status: OK CheckDir: CardinalIO.Rcheck Warnings: 0