Package: CardinalIO Version: 1.9.0 Command: /home/biocbuild/bbs-3.23-bioc/R/bin/R CMD build --keep-empty-dirs --no-resave-data CardinalIO StartedAt: 2025-11-07 16:36:24 -0500 (Fri, 07 Nov 2025) EndedAt: 2025-11-07 16:36:49 -0500 (Fri, 07 Nov 2025) EllapsedTime: 25.0 seconds RetCode: 0 Status: OK PackageFile: CardinalIO_1.9.0.tar.gz PackageFileSize: 1015 KiB