Package: CardinalIO Version: 1.7.0 Command: /Library/Frameworks/R.framework/Resources/bin/R CMD INSTALL CardinalIO StartedAt: 2025-10-17 15:06:49 -0400 (Fri, 17 Oct 2025) EndedAt: 2025-10-17 15:06:55 -0400 (Fri, 17 Oct 2025) EllapsedTime: 6.2 seconds RetCode: 0 Status: OK