Package: CardinalIO Version: 1.7.0 Command: rm -rf CardinalIO.buildbin-libdir && mkdir CardinalIO.buildbin-libdir && /Users/biocbuild/BBS/utils/build-universal.sh CardinalIO_1.7.0.tar.gz /Library/Frameworks/R.framework/Resources/bin/R CardinalIO.buildbin-libdir StartedAt: 2025-10-17 23:01:39 -0400 (Fri, 17 Oct 2025) EndedAt: 2025-10-17 23:01:47 -0400 (Fri, 17 Oct 2025) EllapsedTime: 8.2 seconds RetCode: 0 Status: OK PackageFile: CardinalIO_1.7.0.tgz PackageFileSize: 1.246 MiB