Package: Cardinal Version: 3.11.1 Command: /home/biocbuild/R/R/bin/R CMD INSTALL Cardinal StartedAt: 2025-10-16 21:24:36 -0000 (Thu, 16 Oct 2025) EndedAt: 2025-10-16 21:25:16 -0000 (Thu, 16 Oct 2025) EllapsedTime: 39.7 seconds RetCode: 0 Status: OK