Package: Cardinal Version: 3.11.1 Command: /home/biocbuild/R/R/bin/R CMD build --keep-empty-dirs --no-resave-data Cardinal StartedAt: 2025-10-16 23:46:18 -0000 (Thu, 16 Oct 2025) EndedAt: 2025-10-16 23:58:28 -0000 (Thu, 16 Oct 2025) EllapsedTime: 730.3 seconds RetCode: 0 Status: OK PackageFile: Cardinal_3.11.1.tar.gz PackageFileSize: 2.595 MiB