Package: Cardinal Version: 3.11.0 Command: chmod a+r Cardinal -R && F:\biocbuild\bbs-3.22-bioc\R\bin\R.exe CMD build --keep-empty-dirs --no-resave-data Cardinal StartedAt: 2025-08-14 18:55:25 -0400 (Thu, 14 Aug 2025) EndedAt: 2025-08-14 19:06:13 -0400 (Thu, 14 Aug 2025) EllapsedTime: 648.3 seconds RetCode: 0 Status: OK PackageFile: Cardinal_3.11.0.tar.gz PackageFileSize: 1.878 MiB