Package: Cardinal Version: 3.11.0 Command: rm -rf Cardinal.buildbin-libdir && mkdir Cardinal.buildbin-libdir && F:\biocbuild\bbs-3.22-bioc\R\bin\R.exe CMD INSTALL --build --library=Cardinal.buildbin-libdir Cardinal_3.11.0.tar.gz StartedAt: 2025-08-15 09:53:35 -0400 (Fri, 15 Aug 2025) EndedAt: 2025-08-15 09:56:31 -0400 (Fri, 15 Aug 2025) EllapsedTime: 175.8 seconds RetCode: 0 Status: OK PackageFile: Cardinal_3.11.0.zip PackageFileSize: 3.371 MiB