Package: Cardinal Version: 3.13.0 Command: /home/biocbuild/bbs-3.23-bioc/R/bin/R CMD check --install=check:Cardinal.install-out.txt --library=/home/biocbuild/bbs-3.23-bioc/R/site-library --timings Cardinal_3.13.0.tar.gz StartedAt: 2025-11-20 21:44:55 -0500 (Thu, 20 Nov 2025) EndedAt: 2025-11-20 21:59:17 -0500 (Thu, 20 Nov 2025) EllapsedTime: 862.1 seconds RetCode: 0 Status: OK CheckDir: Cardinal.Rcheck Warnings: 0