Package: CalibraCurve Version: 1.1.0 Command: /home/biocbuild/bbs-3.23-bioc/R/bin/R CMD INSTALL CalibraCurve StartedAt: 2025-10-31 15:51:04 -0400 (Fri, 31 Oct 2025) EndedAt: 2025-10-31 15:51:28 -0400 (Fri, 31 Oct 2025) EllapsedTime: 23.3 seconds RetCode: 0 Status: OK