Package: CalibraCurve Version: 1.1.1 Command: /Library/Frameworks/R.framework/Resources/bin/R CMD INSTALL CalibraCurve StartedAt: 2025-11-20 15:38:29 -0500 (Thu, 20 Nov 2025) EndedAt: 2025-11-20 15:39:02 -0500 (Thu, 20 Nov 2025) EllapsedTime: 32.3 seconds RetCode: 0 Status: OK