Package: CalibraCurve Version: 1.1.1 Command: rm -rf CalibraCurve.buildbin-libdir && mkdir CalibraCurve.buildbin-libdir && /Users/biocbuild/BBS/utils/build-universal.sh CalibraCurve_1.1.1.tar.gz /Library/Frameworks/R.framework/Resources/bin/R CalibraCurve.buildbin-libdir StartedAt: 2025-11-21 01:24:41 -0500 (Fri, 21 Nov 2025) EndedAt: 2025-11-21 01:25:18 -0500 (Fri, 21 Nov 2025) EllapsedTime: 36.7 seconds RetCode: 0 Status: OK PackageFile: CalibraCurve_1.1.1.tgz PackageFileSize: 2.118 MiB