Package: CalibraCurve Version: 1.1.1 Command: /Library/Frameworks/R.framework/Resources/bin/R CMD INSTALL CalibraCurve StartedAt: 2025-11-20 15:19:40 -0500 (Thu, 20 Nov 2025) EndedAt: 2025-11-20 15:19:50 -0500 (Thu, 20 Nov 2025) EllapsedTime: 9.5 seconds RetCode: 0 Status: OK