Package: CalibraCurve Version: 1.1.1 Command: /Library/Frameworks/R.framework/Resources/bin/R CMD build --keep-empty-dirs --no-resave-data CalibraCurve StartedAt: 2025-11-20 15:48:53 -0500 (Thu, 20 Nov 2025) EndedAt: 2025-11-20 15:49:18 -0500 (Thu, 20 Nov 2025) EllapsedTime: 25.3 seconds RetCode: 0 Status: OK PackageFile: CalibraCurve_1.1.1.tar.gz PackageFileSize: 2.139 MiB