Package: CalibraCurve Version: 1.1.1 Command: rm -rf CalibraCurve.buildbin-libdir && mkdir CalibraCurve.buildbin-libdir && /Users/biocbuild/BBS/utils/build-universal.sh CalibraCurve_1.1.1.tar.gz /Library/Frameworks/R.framework/Resources/bin/R CalibraCurve.buildbin-libdir StartedAt: 2025-11-20 23:25:57 -0500 (Thu, 20 Nov 2025) EndedAt: 2025-11-20 23:26:09 -0500 (Thu, 20 Nov 2025) EllapsedTime: 12.3 seconds RetCode: 0 Status: OK PackageFile: CalibraCurve_1.1.1.tgz PackageFileSize: 2.124 MiB