Package: CalibraCurve Version: 1.1.0 Maintainer: Karin Schork MaintainerEmail: karin.schork at rub.de git_url: https://git.bioconductor.org/packages/CalibraCurve git_branch: devel git_last_commit: 251148a git_last_commit_date: 2025-10-29 11:38:43 -0400 (Wed, 29 Oct 2025)