Package: CaMutQC Version: 1.5.5 Command: /home/biocbuild/R/R/bin/R CMD INSTALL CaMutQC StartedAt: 2025-10-13 21:37:57 -0000 (Mon, 13 Oct 2025) EndedAt: 2025-10-13 21:38:33 -0000 (Mon, 13 Oct 2025) EllapsedTime: 36.9 seconds RetCode: 0 Status: OK