Package: CaMutQC Version: 1.5.5 Command: /home/biocbuild/R/R/bin/R CMD build --keep-empty-dirs --no-resave-data CaMutQC StartedAt: 2025-10-13 22:52:49 -0000 (Mon, 13 Oct 2025) EndedAt: 2025-10-13 22:54:25 -0000 (Mon, 13 Oct 2025) EllapsedTime: 96.0 seconds RetCode: 0 Status: OK PackageFile: CaMutQC_1.5.5.tar.gz PackageFileSize: 5.379 MiB