Package: CaMutQC Version: 1.5.5 Command: /home/biocbuild/bbs-3.22-bioc/R/bin/R CMD check --install=check:CaMutQC.install-out.txt --library=/home/biocbuild/bbs-3.22-bioc/R/site-library --timings CaMutQC_1.5.5.tar.gz StartedAt: 2025-10-09 21:55:36 -0400 (Thu, 09 Oct 2025) EndedAt: 2025-10-09 22:01:39 -0400 (Thu, 09 Oct 2025) EllapsedTime: 362.5 seconds RetCode: 0 Status: OK CheckDir: CaMutQC.Rcheck Warnings: 0