Package: CaMutQC Version: 1.7.0 Command: /home/biocbuild/bbs-3.23-bioc/R/bin/R CMD INSTALL CaMutQC StartedAt: 2025-11-06 15:46:52 -0500 (Thu, 06 Nov 2025) EndedAt: 2025-11-06 15:47:21 -0500 (Thu, 06 Nov 2025) EllapsedTime: 29.1 seconds RetCode: 0 Status: OK