Package: CaDrA Version: 1.9.0 Command: /home/biocbuild/bbs-3.23-bioc/R/bin/R CMD INSTALL CaDrA StartedAt: 2025-11-20 15:17:25 -0500 (Thu, 20 Nov 2025) EndedAt: 2025-11-20 15:17:52 -0500 (Thu, 20 Nov 2025) EllapsedTime: 27.3 seconds RetCode: 0 Status: OK