Package: CaDrA Version: 1.9.0 Command: /home/biocbuild/bbs-3.23-bioc/R/bin/R CMD build --keep-empty-dirs --no-resave-data CaDrA StartedAt: 2025-11-20 16:35:02 -0500 (Thu, 20 Nov 2025) EndedAt: 2025-11-20 16:37:20 -0500 (Thu, 20 Nov 2025) EllapsedTime: 138.1 seconds RetCode: 0 Status: OK PackageFile: CaDrA_1.9.0.tar.gz PackageFileSize: 2.353 MiB