Package: CaDrA Version: 1.9.0 Command: /Library/Frameworks/R.framework/Resources/bin/R CMD INSTALL CaDrA StartedAt: 2025-11-20 15:23:51 -0500 (Thu, 20 Nov 2025) EndedAt: 2025-11-20 15:24:33 -0500 (Thu, 20 Nov 2025) EllapsedTime: 41.9 seconds RetCode: 0 Status: OK