Package: CaDrA Version: 1.9.0 Command: /Library/Frameworks/R.framework/Resources/bin/R CMD build --keep-empty-dirs --no-resave-data CaDrA StartedAt: 2025-11-20 16:20:21 -0500 (Thu, 20 Nov 2025) EndedAt: 2025-11-20 16:23:27 -0500 (Thu, 20 Nov 2025) EllapsedTime: 186.2 seconds RetCode: 0 Status: OK PackageFile: CaDrA_1.9.0.tar.gz PackageFileSize: 2.469 MiB