Package: CaDrA Version: 1.9.0 Command: rm -rf CaDrA.buildbin-libdir && mkdir CaDrA.buildbin-libdir && /Users/biocbuild/BBS/utils/build-universal.sh CaDrA_1.9.0.tar.gz /Library/Frameworks/R.framework/Resources/bin/R CaDrA.buildbin-libdir StartedAt: 2025-11-21 01:24:36 -0500 (Fri, 21 Nov 2025) EndedAt: 2025-11-21 01:25:22 -0500 (Fri, 21 Nov 2025) EllapsedTime: 46.0 seconds RetCode: 0 Status: OK PackageFile: CaDrA_1.9.0.tgz PackageFileSize: 2.455 MiB