Package: CaDrA Version: 1.7.0 Command: /Library/Frameworks/R.framework/Resources/bin/R CMD INSTALL CaDrA StartedAt: 2025-10-12 15:11:28 -0400 (Sun, 12 Oct 2025) EndedAt: 2025-10-12 15:11:39 -0400 (Sun, 12 Oct 2025) EllapsedTime: 10.7 seconds RetCode: 0 Status: OK