Package: CaDrA Version: 1.7.0 Command: /Library/Frameworks/R.framework/Resources/bin/R CMD build --keep-empty-dirs --no-resave-data CaDrA StartedAt: 2025-10-12 15:48:57 -0400 (Sun, 12 Oct 2025) EndedAt: 2025-10-12 15:49:59 -0400 (Sun, 12 Oct 2025) EllapsedTime: 61.7 seconds RetCode: 0 Status: OK PackageFile: CaDrA_1.7.0.tar.gz PackageFileSize: 2.495 MiB