Package: CaDrA Version: 1.7.0 Command: rm -rf CaDrA.buildbin-libdir && mkdir CaDrA.buildbin-libdir && /Users/biocbuild/BBS/utils/build-universal.sh CaDrA_1.7.0.tar.gz /Library/Frameworks/R.framework/Resources/bin/R CaDrA.buildbin-libdir StartedAt: 2025-10-13 22:35:37 -0400 (Mon, 13 Oct 2025) EndedAt: 2025-10-13 22:35:51 -0400 (Mon, 13 Oct 2025) EllapsedTime: 13.2 seconds RetCode: 0 Status: OK PackageFile: CaDrA_1.7.0.tgz PackageFileSize: 2.456 MiB