Package: CTexploreR Version: 1.7.0 Command: /home/biocbuild/bbs-3.23-bioc/R/bin/R CMD build --keep-empty-dirs --no-resave-data CTexploreR StartedAt: 2025-11-20 17:05:43 -0500 (Thu, 20 Nov 2025) EndedAt: 2025-11-20 17:18:08 -0500 (Thu, 20 Nov 2025) EllapsedTime: 744.6 seconds RetCode: 0 Status: OK PackageFile: CTexploreR_1.7.0.tar.gz PackageFileSize: 7.268 MiB