Package: CTexploreR Version: 1.5.2 Command: /Library/Frameworks/R.framework/Resources/bin/R CMD INSTALL CTexploreR StartedAt: 2025-10-22 15:31:50 -0400 (Wed, 22 Oct 2025) EndedAt: 2025-10-22 15:32:07 -0400 (Wed, 22 Oct 2025) EllapsedTime: 16.4 seconds RetCode: 0 Status: OK