Package: CTexploreR Version: 1.5.2 Command: /Library/Frameworks/R.framework/Resources/bin/R CMD build --keep-empty-dirs --no-resave-data CTexploreR StartedAt: 2025-10-22 16:04:43 -0400 (Wed, 22 Oct 2025) EndedAt: 2025-10-22 16:10:32 -0400 (Wed, 22 Oct 2025) EllapsedTime: 349.9 seconds RetCode: 0 Status: OK PackageFile: CTexploreR_1.5.2.tar.gz PackageFileSize: 7.55 MiB