Package: CTexploreR Version: 1.5.2 Command: rm -rf CTexploreR.buildbin-libdir && mkdir CTexploreR.buildbin-libdir && /Users/biocbuild/BBS/utils/build-universal.sh CTexploreR_1.5.2.tar.gz /Library/Frameworks/R.framework/Resources/bin/R CTexploreR.buildbin-libdir StartedAt: 2025-10-21 22:57:44 -0400 (Tue, 21 Oct 2025) EndedAt: 2025-10-21 22:58:01 -0400 (Tue, 21 Oct 2025) EllapsedTime: 17.4 seconds RetCode: 0 Status: OK PackageFile: CTexploreR_1.5.2.tgz PackageFileSize: 10.12 MiB