Package: CTdata Version: 1.11.0 Command: /home/biocbuild/bbs-3.23-bioc/R/bin/R CMD INSTALL CTdata StartedAt: 2025-11-20 15:26:00 -0500 (Thu, 20 Nov 2025) EndedAt: 2025-11-20 15:26:13 -0500 (Thu, 20 Nov 2025) EllapsedTime: 13.6 seconds RetCode: 0 Status: OK