Package: CTdata Version: 1.9.0 Command: /Library/Frameworks/R.framework/Resources/bin/R CMD build --keep-empty-dirs --no-resave-data CTdata StartedAt: 2025-10-16 16:16:39 -0400 (Thu, 16 Oct 2025) EndedAt: 2025-10-16 16:19:47 -0400 (Thu, 16 Oct 2025) EllapsedTime: 188.0 seconds RetCode: 0 Status: OK PackageFile: CTdata_1.9.0.tar.gz PackageFileSize: 6.97 MiB