Package: CTdata Version: 1.9.0 Command: rm -rf CTdata.buildbin-libdir && mkdir CTdata.buildbin-libdir && /Users/biocbuild/BBS/utils/build-universal.sh CTdata_1.9.0.tar.gz /Library/Frameworks/R.framework/Resources/bin/R CTdata.buildbin-libdir StartedAt: 2025-10-16 22:57:49 -0400 (Thu, 16 Oct 2025) EndedAt: 2025-10-16 22:57:56 -0400 (Thu, 16 Oct 2025) EllapsedTime: 7.1 seconds RetCode: 0 Status: OK PackageFile: CTdata_1.9.0.tgz PackageFileSize: 6.429 MiB