Package: CTSV Version: 1.13.0 Command: /Library/Frameworks/R.framework/Resources/bin/R CMD INSTALL CTSV StartedAt: 2025-11-26 15:13:12 -0500 (Wed, 26 Nov 2025) EndedAt: 2025-11-26 15:13:23 -0500 (Wed, 26 Nov 2025) EllapsedTime: 11.2 seconds RetCode: 0 Status: OK