Package: CTSV Version: 1.13.0 Command: /Library/Frameworks/R.framework/Resources/bin/R CMD build --keep-empty-dirs --no-resave-data CTSV StartedAt: 2025-11-27 16:02:59 -0500 (Thu, 27 Nov 2025) EndedAt: 2025-11-27 16:03:21 -0500 (Thu, 27 Nov 2025) EllapsedTime: 21.2 seconds RetCode: 0 Status: OK PackageFile: CTSV_1.13.0.tar.gz PackageFileSize: 303.3 KiB